BEGIN:VCALENDAR
VERSION:2.0
PRODID:-//GEMX - ECPv6.15.20//NONSGML v1.0//EN
CALSCALE:GREGORIAN
METHOD:PUBLISH
X-WR-CALNAME:GEMX
X-ORIGINAL-URL:https://gemx.uk
X-WR-CALDESC:Events for GEMX
REFRESH-INTERVAL;VALUE=DURATION:PT1H
X-Robots-Tag:noindex
X-PUBLISHED-TTL:PT1H
BEGIN:VTIMEZONE
TZID:Europe/London
BEGIN:DAYLIGHT
TZOFFSETFROM:+0000
TZOFFSETTO:+0100
TZNAME:BST
DTSTART:20250330T010000
END:DAYLIGHT
BEGIN:STANDARD
TZOFFSETFROM:+0100
TZOFFSETTO:+0000
TZNAME:GMT
DTSTART:20251026T010000
END:STANDARD
BEGIN:DAYLIGHT
TZOFFSETFROM:+0000
TZOFFSETTO:+0100
TZNAME:BST
DTSTART:20260329T010000
END:DAYLIGHT
BEGIN:STANDARD
TZOFFSETFROM:+0100
TZOFFSETTO:+0000
TZNAME:GMT
DTSTART:20261025T010000
END:STANDARD
BEGIN:DAYLIGHT
TZOFFSETFROM:+0000
TZOFFSETTO:+0100
TZNAME:BST
DTSTART:20270328T010000
END:DAYLIGHT
BEGIN:STANDARD
TZOFFSETFROM:+0100
TZOFFSETTO:+0000
TZNAME:GMT
DTSTART:20271031T010000
END:STANDARD
END:VTIMEZONE
BEGIN:VEVENT
DTSTART;TZID=Europe/London:20260219T110000
DTEND;TZID=Europe/London:20260219T150000
DTSTAMP:20260424T212831
CREATED:20260108T160623Z
LAST-MODIFIED:20260108T160623Z
UID:2798-1771498800-1771513200@gemx.uk
SUMMARY:Resource Matching Workshop
DESCRIPTION:International Synergies Northern Ireland\, in collaboration with GemX\, are hosting its first 𝗥𝗲𝘀𝗼𝘂𝗿𝗰𝗲-𝗠𝗮𝘁𝗰𝗵𝗶𝗻𝗴 𝗪𝗼𝗿𝗸𝘀𝗵𝗼𝗽 of the year—an interactive\, in-person event designed to help organisations unlock value from surplus resources\, improve efficiency\, and explore new collaborative opportunities. \nThis workshop will bring together organisations from across all sectors to identify what they HAVE (excess materials\, by-products\, underused assets\, or services) and what they WANT (resources\, inputs\, or solutions they need). Through facilitated discussions and structured matching sessions\, participants will explore practical opportunities to reduce waste\, cut costs\, and build mutually beneficial partnerships. \nPlease register for free on the link below.
URL:https://gemx.uk/event/resource-matching-workshop/
LOCATION:NWRC Springtown Campus\, Springtown Road\, Derry/Londonderry\, BT47 3QR
END:VEVENT
END:VCALENDAR