BEGIN:VCALENDAR
VERSION:2.0
PRODID:-//GEMX - ECPv6.15.20//NONSGML v1.0//EN
CALSCALE:GREGORIAN
METHOD:PUBLISH
X-ORIGINAL-URL:https://gemx.uk
X-WR-CALDESC:Events for GEMX
REFRESH-INTERVAL;VALUE=DURATION:PT1H
X-Robots-Tag:noindex
X-PUBLISHED-TTL:PT1H
BEGIN:VTIMEZONE
TZID:Europe/London
BEGIN:DAYLIGHT
TZOFFSETFROM:+0000
TZOFFSETTO:+0100
TZNAME:BST
DTSTART:20250330T010000
END:DAYLIGHT
BEGIN:STANDARD
TZOFFSETFROM:+0100
TZOFFSETTO:+0000
TZNAME:GMT
DTSTART:20251026T010000
END:STANDARD
BEGIN:DAYLIGHT
TZOFFSETFROM:+0000
TZOFFSETTO:+0100
TZNAME:BST
DTSTART:20260329T010000
END:DAYLIGHT
BEGIN:STANDARD
TZOFFSETFROM:+0100
TZOFFSETTO:+0000
TZNAME:GMT
DTSTART:20261025T010000
END:STANDARD
BEGIN:DAYLIGHT
TZOFFSETFROM:+0000
TZOFFSETTO:+0100
TZNAME:BST
DTSTART:20270328T010000
END:DAYLIGHT
BEGIN:STANDARD
TZOFFSETFROM:+0100
TZOFFSETTO:+0000
TZNAME:GMT
DTSTART:20271031T010000
END:STANDARD
END:VTIMEZONE
BEGIN:VEVENT
DTSTART;TZID=Europe/London:20260226T083000
DTEND;TZID=Europe/London:20260226T103000
DTSTAMP:20260424T195107
CREATED:20260116T143133Z
LAST-MODIFIED:20260116T143133Z
UID:2826-1772094600-1772101800@gemx.uk
SUMMARY:Employing Cross Border - Key Challenges for NI and ROI employers
DESCRIPTION:Employers operating cross-border face an increasingly complex landscape of employment\, tax\, mobility\, and regulatory requirements. This Derry Chamber session in association with CBPES will provide HR\, finance\, mobility and business leaders with practical insights into the key issues affecting cross-border workforces in 2026. \nRegister via the link below.
URL:https://gemx.uk/event/employing-cross-border-key-challenges-for-ni-and-roi-employers/
LOCATION:Waterfoot Hotel\, 14\, Clooney Road\, Derry\, BT47 6TB
END:VEVENT
END:VCALENDAR