BEGIN:VCALENDAR
VERSION:2.0
PRODID:-//GEMX - ECPv6.15.20//NONSGML v1.0//EN
CALSCALE:GREGORIAN
METHOD:PUBLISH
X-ORIGINAL-URL:https://gemx.uk
X-WR-CALDESC:Events for GEMX
REFRESH-INTERVAL;VALUE=DURATION:PT1H
X-Robots-Tag:noindex
X-PUBLISHED-TTL:PT1H
BEGIN:VTIMEZONE
TZID:Europe/London
BEGIN:DAYLIGHT
TZOFFSETFROM:+0000
TZOFFSETTO:+0100
TZNAME:BST
DTSTART:20250330T010000
END:DAYLIGHT
BEGIN:STANDARD
TZOFFSETFROM:+0100
TZOFFSETTO:+0000
TZNAME:GMT
DTSTART:20251026T010000
END:STANDARD
BEGIN:DAYLIGHT
TZOFFSETFROM:+0000
TZOFFSETTO:+0100
TZNAME:BST
DTSTART:20260329T010000
END:DAYLIGHT
BEGIN:STANDARD
TZOFFSETFROM:+0100
TZOFFSETTO:+0000
TZNAME:GMT
DTSTART:20261025T010000
END:STANDARD
BEGIN:DAYLIGHT
TZOFFSETFROM:+0000
TZOFFSETTO:+0100
TZNAME:BST
DTSTART:20270328T010000
END:DAYLIGHT
BEGIN:STANDARD
TZOFFSETFROM:+0100
TZOFFSETTO:+0000
TZNAME:GMT
DTSTART:20271031T010000
END:STANDARD
END:VTIMEZONE
BEGIN:VEVENT
DTSTART;TZID=Europe/London:20260417T100000
DTEND;TZID=Europe/London:20260417T150000
DTSTAMP:20260424T182024
CREATED:20260316T142127Z
LAST-MODIFIED:20260316T142147Z
UID:3010-1776420000-1776438000@gemx.uk
SUMMARY:Seagate: Student Insight Day - Physics\, Photonics and Future Tech (Virtual)
DESCRIPTION:Click the link below to register.
URL:https://gemx.uk/event/seagate-student-insight-day-physics-photonics-and-future-tech-virtual/
LOCATION:Seagate\, 1 Disc Drive\, Derry/Londonderry\, BT48 0BF
END:VEVENT
END:VCALENDAR