BEGIN:VCALENDAR
VERSION:2.0
PRODID:-//GEMX - ECPv6.15.20//NONSGML v1.0//EN
CALSCALE:GREGORIAN
METHOD:PUBLISH
X-WR-CALNAME:GEMX
X-ORIGINAL-URL:https://gemx.uk
X-WR-CALDESC:Events for GEMX
REFRESH-INTERVAL;VALUE=DURATION:PT1H
X-Robots-Tag:noindex
X-PUBLISHED-TTL:PT1H
BEGIN:VTIMEZONE
TZID:Europe/London
BEGIN:DAYLIGHT
TZOFFSETFROM:+0000
TZOFFSETTO:+0100
TZNAME:BST
DTSTART:20230326T010000
END:DAYLIGHT
BEGIN:STANDARD
TZOFFSETFROM:+0100
TZOFFSETTO:+0000
TZNAME:GMT
DTSTART:20231029T010000
END:STANDARD
BEGIN:DAYLIGHT
TZOFFSETFROM:+0000
TZOFFSETTO:+0100
TZNAME:BST
DTSTART:20240331T010000
END:DAYLIGHT
BEGIN:STANDARD
TZOFFSETFROM:+0100
TZOFFSETTO:+0000
TZNAME:GMT
DTSTART:20241027T010000
END:STANDARD
BEGIN:DAYLIGHT
TZOFFSETFROM:+0000
TZOFFSETTO:+0100
TZNAME:BST
DTSTART:20250330T010000
END:DAYLIGHT
BEGIN:STANDARD
TZOFFSETFROM:+0100
TZOFFSETTO:+0000
TZNAME:GMT
DTSTART:20251026T010000
END:STANDARD
BEGIN:DAYLIGHT
TZOFFSETFROM:+0000
TZOFFSETTO:+0100
TZNAME:BST
DTSTART:20260329T010000
END:DAYLIGHT
BEGIN:STANDARD
TZOFFSETFROM:+0100
TZOFFSETTO:+0000
TZNAME:GMT
DTSTART:20261025T010000
END:STANDARD
END:VTIMEZONE
BEGIN:VEVENT
DTSTART;TZID=Europe/London:20250328T093000
DTEND;TZID=Europe/London:20250328T140000
DTSTAMP:20260425T042532
CREATED:20241105T161108Z
LAST-MODIFIED:20241105T161108Z
UID:2275-1743154200-1743170400@gemx.uk
SUMMARY:GEMX Innovation Showcase
DESCRIPTION:SAVE THE DATE
URL:https://gemx.uk/event/gemx-innovation-showcase/
END:VEVENT
BEGIN:VEVENT
DTSTART;TZID=Europe/London:20250327T080000
DTEND;TZID=Europe/London:20250327T163000
DTSTAMP:20260425T042532
CREATED:20250122T084527Z
LAST-MODIFIED:20250122T084527Z
UID:2378-1743062400-1743093000@gemx.uk
SUMMARY:InvestNI Powering Productivity Conference
DESCRIPTION:Join us at our Powering Productivity Conference to hear from industry and business experts Blaire Palmer and David Meade on the transformative impact successful productivity and innovation improvements can have on your business.  \nAt the conference you will:  \nhear from leading industry experts and local businesses about their productivity and innovation journeys.\nwatch a live panel discussion with Economy Minister Conor Murphy\, Dr David Jordan\, QUB\, Stephen Kelly\, Manufacturing NI and Innovate UK.\nexplore how productivity and innovation can add value to your business.\nshare knowledge and network with likeminded professionals to develop productivity and innovation solutions.\nlearn about Invest NI’s productivity and innovation support.\nWho should attend?  \nBusiness leaders\, entrepreneurs\, public and private sector professionals with an interest in productivity and innovation.  \nAgenda   \n08:00 – 09:00: Registration and networking  \n09:00 – 09:10: Welcome and introductions  \n09:10 – 09:50: Panel discussion: Productivity challenges and opportunities for Northern Ireland  \n09:50- 10:50: Keynote speaker\, Blaire Palmer  \n10:50 – 11:15: Networking break \n11:15 – 11:45:  Presentation: Creating a vibrant lean culture \n11:45 – 12:00: Powering productivity – Overview of Invest NI support \n12:10 – 13:10: Morning breakout session \nAttendees can select one session only. In each session you will hear from subject matter experts and local companies that have successfully used innovation to achieve productivity. \nAM session 1: Leading Lean: Making the world of work a better place for people.  	 This session will explore the vital role of lean leadership in successful lean adoption. \nAM session 2: Lean and digital transformation 	Many local businesses are looking to digital transformation to address business and resource constraints. This session will address how understanding and adopting Lean and Industry 4.0 principles can deliver transformational change across  value chains.  \nAM session 3: Lean accounting 	Lean accounting is a different approach to accounting principles and practices that aligns with the principles of lean thinking. Learn how to achieve value in your business by eliminating waste through better workflow and material management.  \nAM session 4: The IDNI approach – Decarbonisation through productivity and efficiency improvement	 Industrial Decarbonisation for Northern Ireland (IDNI) helps clusters of manufacturing companies across NI to decarbonise by facilitating information\, collective resource\, and knowledge sharing. Join this session to hear how this approach could benefit your design and production processes and save you money.    \n13:10 – 14:10: Lunch  \n14:10 – 15:10: Afternoon breakout session \nAttendees can select one session only. In each session you will hear from subject matter experts and local companies that have successfully used innovation to achieve productivity. \nPM session 1: Building and sustaining a lean enterprise    \nMany businesses fail to sustain their lean efforts. This session will share insights into a leading company’s journey.  \nPM session 2: Learning to think like Toyota 	Successful lean transformations develop leaders as coaches.  Toyota use an approach called  Kata coaching\, this session will show why Kata is the best way to learn to think and behave in a more effective way. \nPM session 3: Creating a vibrant lean culture\nBusiness from all over the world want to learn how they can implement a vibrant lean culture. In this session you will learn how to create your own unique\, vibrant lean culture. \nPM session 4: Innovate UK – Scaling with lean\nInnovate UK is the UK’s national innovation agency with an annual budget over £1bn. Join this session to find out how you can benefit from their support to increase your productivity and enhance your business operations.  \n15:25 – 16:30: Closing speaker\, David Meade \nThis conference is funded by the UK government through the UK Shared Prosperity Fund. \nFor more information and to register for the event\, visit https://myini.investni.com/events/event-details/?id=f12086d0-25b2-ef11-a2f4-00155d019359
URL:https://gemx.uk/event/investni-powering-productivity-conference/
LOCATION:La Mon Hotel & Country Club\, 41A Gransha Road\, Comber\, Newtownards\, Down\, BT23 5RF\, United Kingdom
END:VEVENT
BEGIN:VEVENT
DTSTART;TZID=Europe/London:20250326T090000
DTEND;TZID=Europe/London:20250326T150000
DTSTAMP:20260425T042532
CREATED:20241105T160631Z
LAST-MODIFIED:20241105T160631Z
UID:2268-1742979600-1743001200@gemx.uk
SUMMARY:Engineering Day @ Ulster University
DESCRIPTION:
URL:https://gemx.uk/event/engineering-day-ulster-university/
LOCATION:UU Magee Campus\, Northland Road\, Derry/Londonderry\, BT48 7JL
END:VEVENT
BEGIN:VEVENT
DTSTART;TZID=Europe/London:20250116T093000
DTEND;TZID=Europe/London:20250116T130000
DTSTAMP:20260425T042532
CREATED:20241205T102025Z
LAST-MODIFIED:20250108T121043Z
UID:2368-1737019800-1737032400@gemx.uk
SUMMARY:Apprenticeships Unlocked - POSTPONED
DESCRIPTION:This event has been postponed until further notice.
URL:https://gemx.uk/event/apprenticeships-unlocked/
LOCATION:Waterfoot Hotel\, 14\, Clooney Road\, Derry\, BT47 6TB
END:VEVENT
BEGIN:VEVENT
DTSTART;TZID=Europe/London:20241212T090000
DTEND;TZID=Europe/London:20241212T150000
DTSTAMP:20260425T042532
CREATED:20241105T160455Z
LAST-MODIFIED:20241105T160455Z
UID:2265-1733994000-1734015600@gemx.uk
SUMMARY:Springtown Experience Day - MakeME Academy
DESCRIPTION:
URL:https://gemx.uk/event/springtown-experience-day-makeme-academy/
LOCATION:NWRC Springtown Campus\, Springtown Road\, Derry/Londonderry\, BT47 3QR
END:VEVENT
BEGIN:VEVENT
DTSTART;TZID=Europe/London:20241121T133000
DTEND;TZID=Europe/London:20241121T153000
DTSTAMP:20260425T042532
CREATED:20241105T160225Z
LAST-MODIFIED:20241105T160225Z
UID:2263-1732195800-1732203000@gemx.uk
SUMMARY:Meet the GEMs
DESCRIPTION:An event to enable young people to spend some time talking informally to our GEMs about their education and career to date. \nToday’s event will include Chemical Engineers/ Mechanical Engineers/ Process Engineers and Design Technicians from Seagate\, DuPont\, The LYCRA Company\, NWRC\, AE Global and MiM
URL:https://gemx.uk/event/meet-the-gems-2/
LOCATION:North West Regional College\, Strand Road\, Derry
END:VEVENT
BEGIN:VEVENT
DTSTART;TZID=Europe/London:20241114T183000
DTEND;TZID=Europe/London:20241114T203000
DTSTAMP:20260425T042532
CREATED:20241105T160842Z
LAST-MODIFIED:20241105T160842Z
UID:2272-1731609000-1731616200@gemx.uk
SUMMARY:Mock Interviews - Limavady Grammar
DESCRIPTION:
URL:https://gemx.uk/event/mock-interviews-limavady-grammar/
LOCATION:limavady grammar school
END:VEVENT
BEGIN:VEVENT
DTSTART;TZID=Europe/London:20241107T093000
DTEND;TZID=Europe/London:20241107T143000
DTSTAMP:20260425T042532
CREATED:20241007T110243Z
LAST-MODIFIED:20241007T110243Z
UID:2140-1730971800-1730989800@gemx.uk
SUMMARY:Interactive Roadshow
DESCRIPTION:Kindly hosted by St Patrick’s & St Brigid’s College\, Claudy. \nOver 14 GEMX companies will be attending and will provide a variety of activities for attending pupils to engage in. \n  \n 
URL:https://gemx.uk/event/interactive-roadshow/
LOCATION:Diamond Centre\, Claudy
END:VEVENT
BEGIN:VEVENT
DTSTART;TZID=Europe/London:20241106T093000
DTEND;TZID=Europe/London:20241106T110000
DTSTAMP:20260425T042532
CREATED:20241105T155959Z
LAST-MODIFIED:20241105T155959Z
UID:2261-1730885400-1730890800@gemx.uk
SUMMARY:Meet the GEMs
DESCRIPTION:An event to enable young people to spend some time talking informally to our GEMs about their education and career to date. \nToday’s event is Meet the Chemists!
URL:https://gemx.uk/event/meet-the-gems/
LOCATION:North West Regional College\, Strand Road\, Derry
END:VEVENT
BEGIN:VEVENT
DTSTART;TZID=Europe/London:20241105T100000
DTEND;TZID=Europe/London:20241105T120000
DTSTAMP:20260425T042532
CREATED:20240924T102552Z
LAST-MODIFIED:20240924T102552Z
UID:2117-1730800800-1730808000@gemx.uk
SUMMARY:Money & Pensions Advisory Service
DESCRIPTION:As part of Money Week – Session for GEMX companies on services available to SMEs and individuals \nPleaser register with joanne@gemx.uk
URL:https://gemx.uk/event/money-pensions-advisory-service/
LOCATION:NWRC Springtown Campus\, Springtown Road\, Derry/Londonderry\, BT47 3QR
END:VEVENT
BEGIN:VEVENT
DTSTART;TZID=Europe/London:20241025T110000
DTEND;TZID=Europe/London:20241025T130000
DTSTAMP:20260425T042532
CREATED:20241015T161652Z
LAST-MODIFIED:20241015T161652Z
UID:2147-1729854000-1729861200@gemx.uk
SUMMARY:Cyber Security Business Forum
DESCRIPTION:Join us at the Cybersecurity Business Forum where global leaders including\, Dr John Brickey\, Senior Vice President and Cybersecurity Evangelist at Mastercard Technology will share their insights on cybersecurity strategies that can transform your approach to digital protection. This is a unique opportunity for business leaders in the North West to learn directly from top experts in the field and ensure their organisations are equipped to navigate the challenges of our digital world. \nTo register: \n Empowering Business Leadership in Cybersecurity \nhttps://www.eventbrite.co.uk/e/empowering-business-leadership-in-cybersecurity-tickets-1042796812337?aff=oddtdtcreator \n 
URL:https://gemx.uk/event/cyber-security-business-forum/
LOCATION:UU Magee Campus\, Northland Road\, Derry/Londonderry\, BT48 7JL
END:VEVENT
BEGIN:VEVENT
DTSTART;TZID=Europe/London:20241022T093000
DTEND;TZID=Europe/London:20241022T130000
DTSTAMP:20260425T042532
CREATED:20240814T160947Z
LAST-MODIFIED:20240814T160947Z
UID:2089-1729589400-1729602000@gemx.uk
SUMMARY:Green Economy Showcase
DESCRIPTION:Opportunity to network with a range of representatives from local companies and supporting stakeholders. Hear about and discuss topics such as national and regional net zero plans/ electrical governance/ energy efficiency projects/ training and address asks for the future of the North West. \nLunch will be provided.
URL:https://gemx.uk/event/green-economy-showcase/
LOCATION:Waterfoot Hotel\, 14\, Clooney Road\, Derry\, BT47 6TB
ORGANIZER;CN="GEMX":MAILTO:joanne@gemx.uk
END:VEVENT
BEGIN:VEVENT
DTSTART;TZID=Europe/London:20241015T110000
DTEND;TZID=Europe/London:20241015T120000
DTSTAMP:20260425T042532
CREATED:20240924T095039Z
LAST-MODIFIED:20240924T095039Z
UID:2114-1728990000-1728993600@gemx.uk
SUMMARY:Department for Communities Resources: Recruitment Support Webinar
DESCRIPTION:The aim of this webinar is to inform and showcase the extensive range of recruitment support and resources available through DfC to employers. \nThe Department for Communities (DfC) provides a free\, comprehensive recruitment support service\, tailored to the diverse needs of employers across Northern Ireland. Whether you’re a multinational corporation or a local shop-owner\, DfC offers a range of services designed to assist in every stage of the recruitment process. Our team of highly experienced professionals is dedicated to delivering personalised support\, including: \n\nRecruitment advice and guidance\nJob advertisement and promotion\nCV sifting and interview facilities\nAccess to employment and disability support services\nOrganisation of bespoke recruitment events\nInclusion in employability and skills initiatives
URL:https://gemx.uk/event/department-for-communities-resources-recruitment-support-webinar/
END:VEVENT
BEGIN:VEVENT
DTSTART;TZID=Europe/London:20241016T103000
DTEND;TZID=Europe/London:20241016T103000
DTSTAMP:20260425T042532
CREATED:20241016T110347Z
LAST-MODIFIED:20241007T110639Z
UID:2144-1729074600-1729074600@gemx.uk
SUMMARY:CPD Event for DfE Career Advisors - Visit to nuprint
DESCRIPTION:
URL:https://gemx.uk/event/cpd-event-for-dfe-career-advisors-visit-to-nuprint/
END:VEVENT
BEGIN:VEVENT
DTSTART;TZID=Europe/London:20241009T100000
DTEND;TZID=Europe/London:20241009T120000
DTSTAMP:20260425T042532
CREATED:20241007T105405Z
LAST-MODIFIED:20241007T110342Z
UID:2136-1728468000-1728475200@gemx.uk
SUMMARY:CPD Event for DfE Career Advisors - Visit to FastHouse
DESCRIPTION:
URL:https://gemx.uk/event/dfe-career-advisors-visit-to-fasthouse/
END:VEVENT
BEGIN:VEVENT
DTSTART;TZID=Europe/London:20240930T120000
DTEND;TZID=Europe/London:20240930T150000
DTSTAMP:20260425T042532
CREATED:20240715T110049Z
LAST-MODIFIED:20240731T110726Z
UID:2066-1727697600-1727708400@gemx.uk
SUMMARY:Strabane Job Fair 2024
DESCRIPTION:Strabane Job fair will be held on Monday 30th September 2024 in the Alley Theatre\, Strabane – please see attached\, Call for Employer and Employer Registration of Interest form. \n  \nFeel free to share or register if this is an event that may interest you \n  \nAny questions please contact Niamh at  NIAMH.MCGRANAGHAN@DFCNI.GOV.UK \n  \nEmployer Registration of Interest form 2024 \n \n  \n 
URL:https://gemx.uk/event/strabane-job-fair-2024/
LOCATION:The Alley Theatre\, 1A Railway St\, Strabane\, BT82 8EF
END:VEVENT
BEGIN:VEVENT
DTSTART;TZID=Europe/London:20240918T100000
DTEND;TZID=Europe/London:20240918T123000
DTSTAMP:20260425T042532
CREATED:20240814T160320Z
LAST-MODIFIED:20240814T160320Z
UID:2085-1726653600-1726662600@gemx.uk
SUMMARY:HR Breakfast
DESCRIPTION:  \nOpportunity to network with a range of representatives from local companies and stakeholders. Hear about and discuss topics such as peer recognition/ labour relations/ mental health/ neuro-diversity in the workplace and training of middle management.
URL:https://gemx.uk/event/hr-breakfast/
LOCATION:BEAM Centre\, Maydown
ORGANIZER;CN="GEMX":MAILTO:joanne@gemx.uk
END:VEVENT
BEGIN:VEVENT
DTSTART;TZID=Europe/London:20240917T120000
DTEND;TZID=Europe/London:20240917T140000
DTSTAMP:20260425T042532
CREATED:20240902T150432Z
LAST-MODIFIED:20240902T150432Z
UID:2097-1726574400-1726581600@gemx.uk
SUMMARY:Chamber Cross Border Employer Incentives Business Briefing
DESCRIPTION:A seminar for SMEs on employment incentives and support available. \nhttps://londonderrychamber.co.uk/events/cross-border-employer-incentives-business-briefing/
URL:https://gemx.uk/event/chamber-cross-border-employer-incentives-business-briefing/
LOCATION:Waterfoot Hotel\, 14\, Clooney Road\, Derry\, BT47 6TB
END:VEVENT
BEGIN:VEVENT
DTSTART;TZID=Europe/London:20240910T110000
DTEND;TZID=Europe/London:20240910T150000
DTSTAMP:20260425T042532
CREATED:20240731T110549Z
LAST-MODIFIED:20240731T110610Z
UID:2075-1725966000-1725980400@gemx.uk
SUMMARY:Derry City & Strabane Cross Border Job Fair 2024
DESCRIPTION:Derry City Job Fair will be held on Tuesday 10th September 2024 in the City Hotel. \nFeel free to share or register if this is an event that may interest you. \nDerry City and Strabane Cross Border Job Fair – Employer Registration of Interest – NI Direct – Citizen Space \n  \nV2 6205 Derry City and Strabane Job Fair – employers files digital\n  \n  \n  \n 
URL:https://gemx.uk/event/derry-city-strabane-cross-border-job-fair-2024/
LOCATION:City Hotel\, Londonderry
ORGANIZER;CN="Dept for Communities":MAILTO:mailto:dfcemployerservices@communities-ni.gov.uk
END:VEVENT
BEGIN:VEVENT
DTSTART;TZID=Europe/London:20240830T100000
DTEND;TZID=Europe/London:20240830T120000
DTSTAMP:20260425T042532
CREATED:20240819T153107Z
LAST-MODIFIED:20240819T153107Z
UID:2094-1725012000-1725019200@gemx.uk
SUMMARY:NI Public Consultation "Good Jobs" Employment Rights Bill: Giving the Employers' Voice
DESCRIPTION:REGISTER HERE
URL:https://gemx.uk/event/ni-public-consultation-good-jobs-employment-rights-bill-giving-the-employers-voice/
END:VEVENT
BEGIN:VEVENT
DTSTART;TZID=Europe/London:20240705T120000
DTEND;TZID=Europe/London:20240705T133000
DTSTAMP:20260425T042532
CREATED:20240624T121821Z
LAST-MODIFIED:20240624T121821Z
UID:2008-1720180800-1720186200@gemx.uk
SUMMARY:Employer Supports Briefing Lunch
DESCRIPTION:As an Employer do you know what free supports are available to you? \nCome along and join us for a light lunch on the 5 July and hear from the following organisations:\nDepartment for Communities\nCross Border Partnership for Employment Services\nInterTradeIreland\nDepartment for Economy – apprenticeships\nBURC – Belfast Unemployed Resource Centre \nPlease return completed booking form to Karen: ucemployeradviser.lisnagelvin@dfcni.gov.uk \nAny queries regarding this event please contact Barbara: barbara.gibson@communities-ni.gov.uk \nBooking form can be found here: Booking Form 5 July
URL:https://gemx.uk/event/employer-supports-briefing-lunch/
LOCATION:The Ebrington Hotel\, 71 Ebrington Square\, Derry/Londonderry\, BT47 6FA
END:VEVENT
BEGIN:VEVENT
DTSTART;TZID=Europe/London:20240628T083000
DTEND;TZID=Europe/London:20240628T103000
DTSTAMP:20260425T042532
CREATED:20240328T151012Z
LAST-MODIFIED:20240426T101153Z
UID:1686-1719563400-1719570600@gemx.uk
SUMMARY:GEMX Innovation Breakfast
DESCRIPTION:Join us for our GEMX breakfast event on 28th June at the Seagate\, Springtown. These breakfasts will consist of coffee\, scones and discussion of problems that exist for businesses within the North West. \nEach breakfast will be scheduled for an hour and will have the following agenda: \n\nIdentification of topic;\nDiscussion;\nExamples of best practice;  (will be supported by Invest NI at each meeting)\nFollow up activities/ Individual next steps;\nSelection of next topic;\nOptional tour if time allows and company is willing (for those events hosted on site).\n\nTo reserve a place\, email info@gemx.uk \n \n  \n 
URL:https://gemx.uk/event/gemx-innovation-breakfast/
LOCATION:Seagate\, 1 Disc Drive\, Derry/Londonderry\, BT48 0BF
ORGANIZER;CN="GEMX":MAILTO:joanne@gemx.uk
END:VEVENT
BEGIN:VEVENT
DTSTART;TZID=Europe/London:20240530T093000
DTEND;TZID=Europe/London:20240530T170000
DTSTAMP:20260425T042532
CREATED:20240520T161524Z
LAST-MODIFIED:20240520T161748Z
UID:1976-1717061400-1717088400@gemx.uk
SUMMARY:Anchor High Summit
DESCRIPTION:The Manufacturing NI Anchor High Leadership Summit returns for 2024. \nChallenge. Inspire. Transform. \n  \nPacked with key insights and practical takeaways from a speaker line-up that includes industry experts and pioneering leaders\, this event gives you the tools needed to face current business challenges\, inspire the next generation\, and transform your manufacturing business to ensure it is future-ready. \n  \nCurated panels provide a platform for discussion\, with numerous opportunities for networking throughout the day\, closing with an evening Gala Dinner. Anchor High 2024 is not to be missed. \n  \n*Tables of 10 for the Gala Dinner can be purchased via Manufacturing NI directly. Please contact connor@manufacturingni.org directly for more information or to book. \nFor more information and to register\, visit: Anchor High Summit – Manufacturing Month Northern Ireland (manufacturingmonthni.com)
URL:https://gemx.uk/event/anchor-high-summit/
LOCATION:Slieve Donard\, Downs Road\, Newcastle\, BT33 0AH
END:VEVENT
BEGIN:VEVENT
DTSTART;TZID=Europe/London:20240529T090000
DTEND;TZID=Europe/London:20240529T153000
DTSTAMP:20260425T042532
CREATED:20240520T160942Z
LAST-MODIFIED:20240520T161010Z
UID:1972-1716973200-1716996600@gemx.uk
SUMMARY:Future North West
DESCRIPTION:Get ready to explore the cutting-edge innovations and trends shaping the future of the North West City Region! \nWelcome to Future North West! Join us on Wed May 29\, 2024 at Ulster University Derry~Londonderry Campus for a day filled with exciting panel discussions and networking opportunities. Get ready to connect with like-minded individuals and gain valuable insights into the future of the North West. Don’t miss out on this chance to be a part of the conversation and help shape the future of the North West City Region. See you there! \nTo register\, visit: Future North West Tickets\, Wed\, May 29\, 2024 at 9:00 AM | Eventbrite
URL:https://gemx.uk/event/future-north-west/
LOCATION:UU Magee Campus\, Northland Road\, Derry/Londonderry\, BT48 7JL
END:VEVENT
BEGIN:VEVENT
DTSTART;TZID=Europe/London:20240524T100000
DTEND;TZID=Europe/London:20240524T110000
DTSTAMP:20260425T042532
CREATED:20240520T160614Z
LAST-MODIFIED:20240520T161030Z
UID:1966-1716544800-1716548400@gemx.uk
SUMMARY:Starting Digitalisation with SMDH Sensor Solutions: Power Monitoring
DESCRIPTION:Would you like to know how long your machines are idling every day? Or how much energy it takes to make each of your products? Or how operator behaviour can have a direct impact on your bottom line? \nThe Smart Manufacturing Data Hub is hosting a webinar on machine utilisation and monitoring to help manufacturers understand how to use information from their machinery to reduce idling time and optimise efficiency. \nThe team will introduce a low-cost power monitoring solution. An easy to set up\, non-intrusive sensor which will show the machines power and energy consumption in real time with the added benefit of collecting lots of this data over time. \nTo register\, visit: \nStarting Digitalisation with SMDH Sensor Solutions: Power Monitoring Tickets\, Fri 24 May 2024 at 10:00 | Eventbrite
URL:https://gemx.uk/event/starting-digitalisation-with-smdh-sensor-solutions-power-monitoring/
LOCATION:Online
END:VEVENT
BEGIN:VEVENT
DTSTART;TZID=Europe/London:20240430T120000
DTEND;TZID=Europe/London:20240430T130000
DTSTAMP:20260425T042532
CREATED:20240201T154258Z
LAST-MODIFIED:20240201T154258Z
UID:1466-1714478400-1714482000@gemx.uk
SUMMARY:Destination Workplace Webinar
DESCRIPTION:Manufacturing NI are excited to collaborate with Cpl’s Future of Work Institute in this exciting webinar series “Becoming an Employer of Choice”. \nWe understand that many of our members face common business challenges in attracting\, retaining and engaging employees in an ever changing market. With this in mind we have teamed up with Cpl’s Future of Work Institute to bring you a series of 60minute webinar style sessions designed to engage\, excite and inspire you to create strategies to become an employer of choice. \nThe following outlines each session and the key topics covered and learning outcomes you may expect. \nYou can sign up now for the full series or sign up for each one each month. Sessions will be recorded and issued to members post session. Members participating in this series will also receive complementary membership to Future Work.World a network for senior leaders led by Future of Work Institute team where further resources and information can be found. \nDestination Workplace\n\nCreating a brand story that will enhance attraction of talent \nTuesday 30th April 12.00pm \nThis collaboration helps us continue to share insight and best practice to our members through Future of Work Institute’s research\, insights and case studies to support you in becoming an employer of choice. \nWe are currently in the era of experiences where employees want to feel the true essence of an organisation\, there purpose\, meaning and emotive experiences that go beyond the standard initiatives. \nIn this session\, Maria Souza\,  Client Experiences Manager\, Future of Work Institute will discuss the key principles to creating an impactful employer story to enhance your employer brand. \nThis is a 1 hour session with Q&A open to all members. The session will be held via Zoom. \nThe Future of Work Institute\, part of Cpl Group\, is an organisation that explores\, questions and creates future of work solutions through events\, research and projects.  Members participating in this series will also receive complementary membership to Future Work.World a network for senior leaders led by Future of Work Institute team where further resources and information can be found. \nTo register your interest\, visit: Microsoft Virtual Events Powered by Teams
URL:https://gemx.uk/event/destination-workplace-webinar/
LOCATION:Online
END:VEVENT
BEGIN:VEVENT
DTSTART;TZID=Europe/London:20240425T093000
DTEND;TZID=Europe/London:20240425T130000
DTSTAMP:20260425T042532
CREATED:20240403T131833Z
LAST-MODIFIED:20240403T131947Z
UID:1721-1714037400-1714050000@gemx.uk
SUMMARY:GEMX Apprenticeship Showcase
DESCRIPTION:The GEMX apprenticeship subgroup would like to invite you to this event which is being supported by Derry City & Strabane District Council. We are committed to ensuring that the next generation receives accurate information to make well-informed decisions regarding their educational paths\, while also urging companies to expand their offerings of apprenticeship opportunities. \nWe encourage as many of you as possible to attend. Please share this with colleagues who may be interested. The event will offer valuable information beneficial for both employers and education providers\, encouraging networking and discussion. Lunch will be provided. \nPlease register ASAP via Eventbrite as places are limited. If you need any further information\, please do not hesitate to joanne@gemx.uk \nTo register\, visit: GEMX Apprenticeship Showcase Tickets\, Thu 25 Apr 2024 at 09:30 | Eventbrite
URL:https://gemx.uk/event/gemx-apprenticeship-showcase/
LOCATION:Waterfoot Hotel\, 14\, Clooney Road\, Derry\, BT47 6TB
END:VEVENT
BEGIN:VEVENT
DTSTART;TZID=Europe/London:20240424T140000
DTEND;TZID=Europe/London:20240424T160000
DTSTAMP:20260425T042532
CREATED:20240328T170339Z
LAST-MODIFIED:20240328T170339Z
UID:1716-1713967200-1713974400@gemx.uk
SUMMARY:CPD Event for Employment Advisors from Department for Communities
DESCRIPTION:
URL:https://gemx.uk/event/cpd-event-for-employment-advisors-from-department-for-communities/
LOCATION:Hunter Apparel\, Springtown Industrial Estate\, Springtown Road\, Derry/Londonderry\, BT48 0LY
END:VEVENT
BEGIN:VEVENT
DTSTART;TZID=Europe/London:20240410T140000
DTEND;TZID=Europe/London:20240410T160000
DTSTAMP:20260425T042532
CREATED:20240328T165613Z
LAST-MODIFIED:20240328T165748Z
UID:1712-1712757600-1712764800@gemx.uk
SUMMARY:CPD Event for Employment Advisors from Department for Communities
DESCRIPTION:
URL:https://gemx.uk/event/cpd-events-for-employment-advisors-from-department-for-communities/
LOCATION:Vertiv\, Campsie\, 1 Fruit Of The Loom Drive\, Eglinton\, BT47 3XY
END:VEVENT
BEGIN:VEVENT
DTSTART;TZID=Europe/London:20240410T093000
DTEND;TZID=Europe/London:20240410T113000
DTSTAMP:20260425T042532
CREATED:20240328T153048Z
LAST-MODIFIED:20240328T153048Z
UID:1696-1712741400-1712748600@gemx.uk
SUMMARY:GEMX MakeME Academy Interactive Roadshow
DESCRIPTION:
URL:https://gemx.uk/event/gemx-makeme-academy-interactive-roadshow/
LOCATION:St Brigid’s College / Coláiste Bhríde\, Glengalliagh Road\, Derry\, BT48 8DU
END:VEVENT
END:VCALENDAR